Workbook
Name ____sta2: [0]!Combined.-1.12
Name ____sta2: [0]!Combined.-1.12
Name ____sta2: [0]!Combined.-1.12
Name ____sta2: [0]!Combined.-1.12
Name __5450_01: #REF!
Name __5450_01: #REF!
Name __5456_n: #REF!
Name __5456_n: #REF!
Name __DON1: [1]CNOBARI!$A$2:$A$39
Name __DON2: [1]CNOBARI!$B$2:$B$107
Name __DON3: [2]CNOBARI!$C$2:$C$135
Name __IV69000: #REF!
Name __IV70000: #REF!
Name __JA1: #REF!
Name __KA1: #REF!
Name __sta2: [0]!Combined.-1.12
Name __sta2: [0]!Combined.-1.12
Name __sta2: [0]!Combined.-1.12
Name __sta2: [0]!Combined.-1.12
Name __Ве: #REF!
Name __Ве: #REF!
Name __Вероят: #REF!
Name __Вероят: #REF!
Name __Вероятность_погашения: #REF!
Name _10._Прочие_пассивы: #REF!
Name _11: #REF!
Name _11._Акционерный_капитал: #REF!
Name _12._Нераспределенная_прибыль_и_резервы: #REF!
Name _3._Кредиты_клиентам: #REF!
Name _4._Кредиты_банкам: #REF!
Name _4050_00: #REF!
Name _4050_01: #REF!
Name _4050_n: #REF!
Name _4052_00: #REF!
Name _4052_01: #REF!
Name _4052_n: #REF!
Name _4100_00: #REF!
Name _4100_01: #REF!
Name _4100_n: #REF!
Name _4101_00: #REF!
Name _4101_01: #REF!
Name _4101_n: #REF!
Name _4150_00: #REF!
Name _4150_01: #REF!
Name _4150_n: #REF!
Name _4151_00: #REF!
Name _4151_01: #REF!
Name _4151_n: #REF!
Name _4152_00: #REF!
Name _4152_01: #REF!
Name _4152_n: #REF!
Name _4155_00: #REF!
Name _4155_01: #REF!
Name _4155_n: #REF!
Name _4250_00: #REF!
Name _4250_01: #REF!
Name _4250_n: #REF!
Name _4252_00: #REF!
Name _4252_01: #REF!
Name _4252_n: #REF!

Sheet FS
B2: Historical Consolidated IFRS Financial Statements
B3: (Consolidated Statement of Profit or Loss; Statement of Financial Position and Statement of Cash Flows)
B4: JSC Georgian Railway
A5: Column1 | B5: ’000 GEL | C5: 2007 | D5: 2008 | E5: 2009 | F5: 2010 | G5: 2011 | H5: 2012 | I5: 2013 | J5: 2014 | K5: 2015 | L5: 2016 | M5: 2017 | N5: 2018 | O5: 2019 | P5: 2020 | Q5: 2021 | R5: 2022 | S5: 2023 | T5: 2024 | U5: 6M 2024 | V5: 6M 2025
B7: Consolidated Statements of Profit or Loss and Other Comprehensive Income
B9: Freight transportation | C9: 248942 | D9: 239512.64 | E9: 238795.42 | F9: 298013.68 | G9: 348924.11 | H9: 350866.03 | I9: 364057 | J9: 382732 | K9: 392773.6 | L9: 292612 | M9: 262771.5 | N9: 241313.41 | O9: 308515.4 | P9: 316452.44 | Q9: 353929.4 | R9: 388445.89 | S9: 346537.28 | T9: 363202.86 | U9: 173422.15 | V9: 168470.71
B10: Freight handling | C10: 41350 | D10: 55250.793 | E10: 35354.168 | F10: 56568.831 | G10: 61990.886 | H10: 50924.974 | I10: 60529 | J10: 69049 | K10: 79177 | L10: 52974 | M10: 50188.5 | N10: 51650.49 | O10: 65398 | P10: 72855.29 | Q10: 69865.4 | R10: 92179.848 | S10: 82729.308 | T10: 86491.434 | U10: 41973.803 | V10: 45971.39
B11: Logistic service | C11: NA | D11: NA | E11: NA | F11: NA | G11: NA | H11: NA | I11: NA | J11: NA | K11: 56086 | L11: 52582 | M11: 73774 | N11: 70317.663 | O11: 48814 | P11: 54105.764 | Q11: 69370.53 | R11: 123071.48 | S11: 132213 | T11: 129533.84 | U11: 66763.005 | V11: 52888.652
B12: Freight car rental | C12: 11520 | D12: 16590 | E12: 16543 | F12: 22302 | G12: 43957 | H12: 46382 | I12: 34308 | J12: 37811 | K12: 24261 | L12: 13948 | M12: 16780.3 | N12: 25361.675 | O12: 0 | P12: 0 | Q12: 0 | R12: 0 | T12: 0 | U12: 0 | V12: 0
B13: Rent of wagons and other rental income | C13: 0 | D13: 0 | E13: 0 | F13: 0 | G13: 0 | H13: 0 | I13: 0 | J13: 0 | K13: 0 | L13: 0 | M13: 0 | N13: 0 | O13: 16090 | P13: 8838 | Q13: 4647.438 | R13: 4072.1343 | S13: 4158.1125 | T13: 3829.477 | U13: 2578.5395 | V13: 2182.443
B14: Freight car cross-border charge | C14: 0 | D14: 0 | E14: 0 | F14: 0 | G14: 0 | H14: 0 | I14: 0 | J14: 0 | K14: 0 | L14: 0 | M14: 0 | N14: 0 | O14: 14156 | P14: 14147.398 | Q14: 9910.3441 | R14: 9702.597 | S14: 15705.019 | T14: 15609.014 | U14: 7906.8938 | V14: 7037.664
B15: Passenger traffic | C15: 17165 | D15: 16615 | E15: 13952 | F15: 15668 | G15: 15257 | H15: 17432 | I15: 18044.4 | J15: 18317 | K15: 15487 | L15: 18007 | M15: 22844 | N15: 27403.903 | O15: 31138 | P15: 11201.261 | Q15: 14807.701 | R15: 27423.406 | S15: 41218.622 | T15: 36668.582 | U15: 16754.61 | V15: 13448.241
B16: Grant revenue | O16: 0 | P16: 0 | Q16: 0 | R16: 0 | S16: 0 | T16: 8725.922 | U16: 0 | V16: 4268.755
B17: Rent, scrap realization,other | C17: 4931 | D17: 3509.294 | E17: 3731 | F17: 7721 | G17: 7248 | H17: 4214 | I17: 2908 | J17: 3661 | K17: 6988 | L17: 9799 | M17: 8176 | N17: 8567.3379 | O17: 6927 | P17: 11770 | Q17: 25337 | R17: 29877.941 | S17: 4612 | T17: 4276 | U17: 1305 | V17: 1383.739
B18: Telecom revenue | C18: 1578 | D18: 9410.27 | E18: 10462 | F18: 4413 | G18: 0 | H18: 0 | I18: 0 | J18: 0 | K18: 0 | L18: 0 | M18: 0 | N18: 0 | O18: 0 | P18: 0 | Q18: 0 | R18: 0 | S18: 0 | T18: 0 | U18: 0 | V18: 0
B19: Revenue | C19: =SUM(C9:C18) -> 325486 | D19: =SUM(D9:D18) -> 340888 | E19: =SUM(E9:E18) -> 318837.59 | F19: =SUM(F9:F18) -> 404686.51 | G19: =SUM(G9:G18) -> 477377 | H19: =SUM(H9:H18) -> 469819 | I19: =SUM(I9:I18) -> 479846.4 | J19: =SUM(J9:J18) -> 511570 | ... V19: =SUM(V9:V18) -> 295651.6
B20: Income from the transferred property | C20: 0 | D20: 0 | E20: 0 | F20: 0 | G20: 0 | H20: 0 | I20: 0 | J20: 0 | K20: 7503 | L20: 80294 | M20: 23417 | N20: 0 | O20: 0 | P20: 0 | Q20: 0 | R20: 0 | S20: 0 | T20: 0 | U20: 0 | V20: 0
B21: Continuing operations | C21: 6509 | D21: 3214 | E21: 6538 | F21: 7087.9317 | G21: 8622 | H21: 12660 | I21: 15547.483 | J21: 10390 | K21: 13293.116 | L21: 12165 | M21: 7748 | N21: 2785.7098 | O21: 4766.9728 | P21: 3091.0172 | Q21: 3391 | R21: 5112.9496 | S21: 5716.5999 | T21: 10096.667 | U21: 8037.4694 | V21: 960.624
B22: Gain on sale of subsidiary | C22: 0 | D22: 0 | E22: 0 | F22: 4279.1807 | G22: 0 | H22: 0 | I22: 0 | J22: 0 | K22: 0 | L22: 0 | M22: 0 | N22: 0 | O22: 0 | P22: 0 | Q22: 0 | R22: 0 | T22: 0 | U22: 0 | V22: 0
B23: Other | C23: 3055 | D23: 15500 | E23: 4140 | F23: 6450.8875 | G23: 3403 | H23: 19293 | I23: -95.896188 | J23: 1963.4 | K23: 9975 | L23: 6957 | M23: 7812 | N23: 16726.262 | O23: 7984.1331 | P23: 9456 | Q23: 5560 | R23: 10711.756 | S23: 3275.9001 | T23: 12710.426 | U23: 7052.2019 | V23: 925.46
B24: Other Income | C24: =SUM(C21:C23) -> 9564 | D24: =SUM(D21:D23) -> 18714 | E24: =SUM(E21:E23) -> 10678 | F24: =SUM(F21:F23) -> 17818 | G24: =SUM(G21:G23) -> 12025 | H24: =SUM(H21:H23) -> 31953 | I24: =SUM(I21:I23) -> 15451.587 | J24: =SUM(J21:J23) -> 12353.4 | ... V24: =SUM(V21:V23) -> 1886.084
B26: Impairment loss on property, plant and equipment | C26: 0 | D26: 0 | E26: 0 | F26: 0 | G26: 0 | H26: 0 | I26: 0 | J26: 0 | K26: 0 | L26: 0 | M26: -382616 | N26: -691387 | O26: 0 | P26: 0 | Q26: 0 | R26: 0 | S26: 0 | T26: 0 | U26: 0 | V26: 0
B27: Employee benefits expense | C27: -105307 | D27: -108747 | E27: -106113 | F27: -111257 | G27: -108493 | H27: -108467 | I27: -133509 | J27: -145174 | K27: -148624.54 | L27: -146626.17 | M27: -148302 | N27: -154338.38 | O27: -160561.48 | P27: -170502.46 | Q27: -180701.4 | R27: -197707.86 | S27: -239055.55 | T27: -233224.44 | U27: -116463.35 | V27: -124131.27
B28: Depreciation and amortization expenses | C28: -106658 | D28: -98885 | E28: -96111 | F28: -98749 | G28: -92137 | H28: -97082 | I28: -101927 | J28: -105258 | K28: -104416.45 | L28: -106267.41 | M28: -109702.67 | N28: -113804.16 | O28: -81234.703 | P28: -76155.805 | Q28: -58397 | R28: -66585.279 | S28: -76895 | T28: -59325.4 | U28: -31599.105 | V28: -31340.227
B29: Electricity, consumables and maintenance costs | C29: =SUM(C30:C33) -> -64707 | D29: =SUM(D30:D33) -> -56460 | E29: =SUM(E30:E33) -> -49491.052 | F29: =SUM(F30:F33) -> -49629 | G29: =SUM(G30:G33) -> -58863 | H29: =SUM(H30:H33) -> -60702.261 | I29: =SUM(I30:I33) -> -59716 | J29: =SUM(J30:J33) -> -57240 | ... V29: =SUM(V30:V33) -> -33810.552
B30: Electricity | C30: -18192 | D30: -22319 | E30: -19310.515 | F30: -21386 | G30: -24180 | H30: -23127 | I30: -21236 | J30: -20091 | K30: -20424.171 | L30: -21687 | M30: -20868.4 | N30: -20962 | O30: -22069 | P30: -19519 | Q30: -30857.4 | R30: -43916.041 | S30: -38677.438 | T30: -40418.443 | U30: -20299.24 | V30: -18976.345
B31: Materials | C31: -24662 | D31: -11793 | E31: -13345.137 | F31: -13565 | G31: -13849 | H31: -20758.261 | I31: -19770 | J31: -19280 | K31: -19275.973 | L31: -14121 | M31: -11565 | N31: -11928.544 | O31: -12135 | P31: -10306.149 | Q31: -12103 | R31: -15236.596 | S31: -14481.973 | T31: -20999.459 | U31: -7640.4721 | V31: -7923.544
B32: Fuel | C32: -9530 | D32: -11775 | E32: -7659.4 | F32: -9669 | G32: -9734 | H32: -9088 | I32: -8160 | J32: -7868 | K32: -5806.991 | L32: -4306 | M32: -5237 | N32: -6704.2749 | O32: -7023 | P32: -6184 | Q32: -6544.8708 | R32: -10485.443 | S32: -8739.2003 | T32: -7268.928 | U32: -3713.0293 | V32: -3412.839
B33: Repair and maintenance | C33: -12323 | D33: -10573 | E33: -9176 | F33: -5009 | G33: -11100 | H33: -7729 | I33: -10550 | J33: -10001 | K33: -15420.266 | L33: -7175 | M33: -3820 | N33: -4113.1533 | O33: -6694 | P33: -5401.657 | Q33: -5062.0415 | R33: -10568.896 | S33: -12823.807 | T33: -18967.462 | U33: -10184.489 | V33: -3497.824
B34: Impairment gain/(loss) on trade receivables | M34: -12115 | N34: -12017 | O34: -33728.665 | P34: -13559.5 | Q34: -2790.6556 | R34: 840.43081 | S34: 6015.8 | T34: -3776.821 | U34: -1152.4323 | V34: -1184.963
B35: Other Expenses | C35: =SUM(C36:C45) -> -56921 | D35: =SUM(D36:D45) -> -57207 | E35: =SUM(E36:E45) -> -64798 | F35: =SUM(F36:F45) -> -97375 | G35: =SUM(G36:G45) -> -77636 | H35: =SUM(H36:H45) -> -101722.65 | I35: =SUM(I36:I45) -> -88595 | J35: =SUM(J36:J45) -> -75801 | ... V35: =SUM(V36:V45) -> -71724.873
B36: Taxes, other than on income | C36: -28939 | D36: -18726 | E36: -26426 | F36: -46846 | G36: -33175 | H36: -41735 | I36: -33380 | J36: -28706 | K36: -31021 | L36: -32006.188 | M36: -27691.8 | N36: -27981.859 | O36: -22743.943 | P36: -24451.778 | Q36: -30958.144 | R36: -24898.571 | S36: -25223.047 | T36: -26118.751 | U36: =-12205.6532-387 -> -12592.653 | V36: -14235.607
B37: Write off of PPE | C37: 0 | D37: 0 | E37: -6622 | F37: -4831 | G37: -4094 | H37: -5853.648 | I37: -296 | J37: 0 | K37: -164 | L37: -254.4828 | M37: -803 | N37: -1250 | O37: -1030 | P37: -2235.6 | Q37: -1874.128 | R37: -876.73028 | S37: -3798.5005 | T37: -695.77 | U37: -283.60635 | V37: -210.907
B38: Write off of CIP | C38: 0 | D38: 0 | E38: 0 | F38: 0 | G38: 0 | H38: -8931 | I38: -5687 | J38: -3858 | K38: 0 | L38: 0 | M38: 0 | N38: 0 | O38: 0 | P38: 0 | Q38: 0 | R38: 0 | S38: 0 | T38: 0 | U38: - | V38: 0
B39: Security and other operating expenses | C39: -15333 | D39: -19337 | E39: -15588 | F39: -17532 | G39: -16967 | H39: -20165 | I39: -27387 | J39: -23245 | K39: -8734 | L39: -8928 | M39: -8918 | N39: -9208.5803 | O39: -9246 | P39: -9916.7 | Q39: -9731 | R39: -10390.108 | S39: -12364.076 | T39: -13166.012 | U39: -6036.4377 | V39: -7397.399
B40: Freight car cross-border charge | C40: -9371 | D40: -10746 | E40: -6378 | F40: -9046 | G40: -23400 | H40: -25038 | I40: -21845 | J40: -19992 | K40: -11210 | L40: -4407 | M40: -4094.5 | N40: -4177 | O40: -3780 | P40: -3688.1096 | Q40: -4064.7904 | R40: -10927.961 | S40: -8324.5494 | T40: -15176.512 | U40: -6049.8224 | V40: -10722.663
B41: Logistic service | C41: NA | D41: NA | E41: NA | F41: NA | G41: NA | H41: NA | I41: NA | J41: NA | K41: -17197 | L41: -14270 | M41: -12996 | N41: -17635.5 | O41: -20182 | P41: -21105.292 | Q41: -32918.385 | R41: -71284.841 | S41: -88461 | T41: -76613.526 | U41: -28794.603 | V41: -27073.815
B42: Internet and cable lease (Telecom) | C42: -1279 | D42: -5071 | E42: -7116 | F42: -3611 | G42: 0 | H42: 0 | I42: 0 | J42: 0 | K42: 0 | L42: 0 | M42: 0 | N42: 0 | O42: 0 | P42: 0 | Q42: 0 | R42: 0 | S42: 0 | T42: 0 | U42: - | V42: 0
B43: Inventory write-off | C43: 0 | D43: -96 | E43: -2668 | F43: 0 | G43: 0 | H43: 0 | I43: 0 | J43: 0 | K43: 0 | L43: 0 | M43: 0 | N43: 0 | O43: 0 | P43: 0 | Q43: 0 | R43: 0 | S43: 0 | T43: 0 | U43: - | V43: 0
B44: Other | C44: 0 | D44: 0 | E44: 0 | F44: 0 | G44: 0 | H44: 0 | I44: 0 | J44: 0 | K44: -7576 | L44: -8944 | M44: -18013 | N44: -14674 | O44: -15665.4 | P44: -10158.46 | Q44: -15928 | R44: -10787.568 | S44: -16394.987 | T44: -13657.194 | U44: -6007.9725 | V44: -12084.482
...

Sheet Sheet1
I2: =I4-B4 -> 81319.2
B3: 2018 | C3: 2019 | D3: =C3+1 -> 2020 | E3: =D3+1 -> 2021 | F3: =E3+1 -> 2022 | G3: =F3+1 -> 2023 | H3: =G3+1 -> 2024 | I3: =H3+1 -> 2025 | J3: ჯამი
A4: ხელფასის ხარჯი | B4: 116793 | C4: 118635 | D4: 127108 | E4: 150613 | F4: 151458 | G4: 185424 | H4: 180102 | I4: =H4*1.1 -> 198112.2
C5: =C4/B4-1 -> 0.015771493 | D5: =D4/C4-1 -> 0.071420744 | E5: =E4/D4-1 -> 0.18492148 | F5: =F4/E4-1 -> 0.0056104055 | G5: =G4/F4-1 -> 0.22426019 | H5: =H4/G4-1 -> -0.028701786 | I5: =I4/H4-1 -> 0.1 | J5: =SUM(C5:I5) -> 0.57328253
A6: თანამშ. რაოდენობა | B6: 12630 | C6: 12669 | D6: 12369 | E6: 12414 | F6: 12378 | G6: 12119 | H6: 11740 | I6: =H6 -> 11740
A7: საშ. ხელფასი | B7: =B4/B6/12*1000 -> 770.6057 | C7: =C4/C6/12*1000 -> 780.34967 | D7: =D4/D6/12*1000 -> 856.36133 | E7: =E4/E6/12*1000 -> 1011.0426 | F7: =F4/F6/12*1000 -> 1019.672 | G7: =G4/G6/12*1000 -> 1275.0227 | H7: =H4/H6/12*1000 -> 1278.4072 | I7: =I4/I6/12*1000 -> 1406.2479
C8: =C7/B7-1 -> 0.012644562 | D8: =D7/C7-1 -> 0.09740718 | E8: =E7/D7-1 -> 0.18062622 | F8: =F7/E7-1 -> 0.0085351085 | G8: =G7/F7-1 -> 0.25042435 | H8: =H7/G7-1 -> 0.0026544338 | I8: =I7/H7-1 -> 0.1 | J8: =SUM(C8:I8) -> 0.65229185
I9: =I7/B7-1 -> 0.82486046 | J9: <---- 2025 vs 2018

Sheet FS (2)
B1: Historical Consolidated IFRS Financial Statements
B2: (Consolidated Statement of Profit or Loss; Statement of Financial Position and Statement of Cash Flows)
B3: JSC Georgian Railway
A4: Column1 | B4: ’000 GEL | C4: 2007 | D4: 2008 | E4: 2009 | F4: 2010 | G4: 2011 | H4: 2012 | I4: 2013 | J4: 2014 | K4: 2015 | L4: 2016 | M4: 2017 | N4: 2018 | O4: 2019 | P4: 2020 | Q4: 2021 | R4: 2022 | S4: 2023 | T4: 2024 | X4: 2020 | Y4: 2021 | Z4: 2022 | AA4: 2023 | AB4: 2024
B6: Consolidated Statements of Profit or Loss and Other Comprehensive Income
B8: Freight transportation | C8: 248942 | D8: 239512.64 | E8: 238795.42 | F8: 298013.68 | G8: 348924.11 | H8: 350866.03 | I8: 364057 | J8: 382732 | K8: 392773.6 | L8: 292612 | M8: 262771.5 | N8: 241313.41 | O8: 308515.4 | P8: 316452.44 | Q8: 353929.4 | R8: 388445.89 | S8: 346537.18 | T8: 362659.42
B9: Freight handling | C9: 41350 | D9: 55250.793 | E9: 35354.168 | F9: 56568.831 | G9: 61990.886 | H9: 50924.974 | I9: 60529 | J9: 69049 | K9: 79177 | L9: 52974 | M9: 50188.5 | N9: 51650.49 | O9: 65398 | P9: 72855.29 | Q9: 69865.4 | R9: 92179.848 | S9: 82729.308 | T9: 86491.434
B10: Logistic service | C10: NA | D10: NA | E10: NA | F10: NA | G10: NA | H10: NA | I10: NA | J10: NA | K10: 56086 | L10: 52582 | M10: 73774 | N10: 70317.663 | O10: 48814 | P10: 54105.764 | Q10: 69370.53 | R10: 123071.48 | S10: 132213 | T10: 128846.63
B11: Freight car rental | C11: 11520 | D11: 16590 | E11: 16543 | F11: 22302 | G11: 43957 | H11: 46382 | I11: 34308 | J11: 37811 | K11: 24261 | L11: 13948 | M11: 16780.3 | N11: 25361.675 | O11: 0 | P11: 0 | Q11: 0 | R11: 0 | T11: 0
B12: Rent of wagons and other rental income | C12: 0 | D12: 0 | E12: 0 | F12: 0 | G12: 0 | H12: 0 | I12: 0 | J12: 0 | K12: 0 | L12: 0 | M12: 0 | N12: 0 | O12: 16090 | P12: 8838 | Q12: 4647.438 | R12: 4072.1343 | S12: 4158.1125 | T12: 3829.477
B13: Freight car cross-border charge | C13: 0 | D13: 0 | E13: 0 | F13: 0 | G13: 0 | H13: 0 | I13: 0 | J13: 0 | K13: 0 | L13: 0 | M13: 0 | N13: 0 | O13: 14156 | P13: 14147.398 | Q13: 9910.3441 | R13: 9702.597 | S13: 15705.019 | T13: 15609.014
B14: Passenger traffic | C14: 17165 | D14: 16615 | E14: 13952 | F14: 15668 | G14: 15257 | H14: 17432 | I14: 18044.4 | J14: 18317 | K14: 15487 | L14: 18007 | M14: 22844 | N14: 27403.903 | O14: 31138 | P14: 11201.261 | Q14: 14807.701 | R14: 27423.406 | S14: 41218.622 | T14: 36668.582
B15: Revenue from PSC* | O15: 0 | P15: 0 | Q15: 0 | R15: 0 | S15: 0 | T15: 8725.922
B16: Rent, scrap realization,other | C16: 4931 | D16: 3509.294 | E16: 3731 | F16: 7721 | G16: 7248 | H16: 4214 | I16: 2908 | J16: 3661 | K16: 6988 | L16: 9799 | M16: 8176 | N16: 8567.3379 | O16: 6927 | P16: 11770 | Q16: 25337 | R16: 29877.941 | S16: 4612 | T16: 14017.582
B17: Telecom revenue | C17: 1578 | D17: 9410.27 | E17: 10462 | F17: 4413 | G17: 0 | H17: 0 | I17: 0 | J17: 0 | K17: 0 | L17: 0 | M17: 0 | N17: 0 | O17: 0 | P17: 0 | Q17: 0 | R17: 0 | S17: 0 | T17: 0
B18: Revenue | C18: =SUM(C8:C17) -> 325486 | D18: =SUM(D8:D17) -> 340888 | E18: =SUM(E8:E17) -> 318837.59 | F18: =SUM(F8:F17) -> 404686.51 | G18: =SUM(G8:G17) -> 477377 | H18: =SUM(H8:H17) -> 469819 | I18: =SUM(I8:I17) -> 479846.4 | J18: =SUM(J8:J17) -> 511570 | ... T18: =SUM(T8:T17) -> 656848.06
B20: Continuing operations | C20: 6509 | D20: 3214 | E20: 6538 | F20: 7087.9317 | G20: 8622 | H20: 12660 | I20: 15547.483 | J20: 10390 | K20: 13293.116 | L20: 12165 | M20: 7748 | N20: 2785.7098 | O20: 4766.9728 | P20: 3091.0172 | Q20: 3391 | R20: 5112.9496 | S20: 5716.5999 | T20: 9448.711
B21: Profit generated from associate entity | O21: 0 | P21: 0 | Q21: 0 | R21: 0 | S21: 0 | T21: 15621.619
B22: Gain on sale of subsidiary | C22: 0 | D22: 0 | E22: 0 | F22: 4279.1807 | G22: 0 | H22: 0 | I22: 0 | J22: 0 | K22: 0 | L22: 0 | M22: 0 | N22: 0 | O22: 0 | P22: 0 | Q22: 0 | R22: 0 | T22: 0
B23: Other | C23: 3055 | D23: 15500 | E23: 4140 | F23: 6450.8875 | G23: 3403 | H23: 19293 | I23: -95.896188 | J23: 1963.4 | K23: 9975 | L23: 6957 | M23: 7812 | N23: 16726.262 | O23: 7984.1331 | P23: 9456 | Q23: 5560 | R23: 10711.756 | S23: 3275.9001 | T23: 3187.649
B24: Other Income | C24: =SUM(C20:C23) -> 9564 | D24: =SUM(D20:D23) -> 18714 | E24: =SUM(E20:E23) -> 10678 | F24: =SUM(F20:F23) -> 17818 | G24: =SUM(G20:G23) -> 12025 | H24: =SUM(H20:H23) -> 31953 | I24: =SUM(I20:I23) -> 15451.587 | J24: =SUM(J20:J23) -> 12353.4 | ... T24: =SUM(T20:T23) -> 28257.979
B26: Impairment loss on property, plant and equipment | C26: 0 | D26: 0 | E26: 0 | F26: 0 | G26: 0 | H26: 0 | I26: 0 | J26: 0 | K26: 0 | L26: 0 | M26: -382616 | N26: -691387 | O26: 0 | P26: 0 | Q26: 0 | R26: 0 | S26: 0 | T26: 0
B27: Employee benefits expense | C27: -105307 | D27: -108747 | E27: -106113 | F27: -111257 | G27: -108493 | H27: -108467 | I27: -133509 | J27: -145174 | K27: -148624.54 | L27: -146626.17 | M27: -148302 | N27: -154338.38 | O27: -160561.48 | P27: -170502.46 | Q27: -180701.4 | R27: -197707.86 | S27: -239055.55 | T27: -233224.44
B28: Depreciation and amortization expenses | C28: -106658 | D28: -98885 | E28: -96111 | F28: -98749 | G28: -92137 | H28: -97082 | I28: -101927 | J28: -105258 | K28: -104416.45 | L28: -106267.41 | M28: -109702.67 | N28: -113804.16 | O28: -81234.703 | P28: -76155.805 | Q28: -58397 | R28: -66585.279 | S28: -76895 | T28: -61698.732
B29: Electricity, inventory and repair work | C29: =SUM(C30:C33) -> -64707 | D29: =SUM(D30:D33) -> -56460 | E29: =SUM(E30:E33) -> -49491.052 | F29: =SUM(F30:F33) -> -49629 | G29: =SUM(G30:G33) -> -58863 | H29: =SUM(H30:H33) -> -60702.261 | I29: =SUM(I30:I33) -> -59716 | J29: =SUM(J30:J33) -> -57240 | ... T29: =SUM(T30:T33) -> -86269.291
B30: Electricity | C30: -18192 | D30: -22319 | E30: -19310.515 | F30: -21386 | G30: -24180 | H30: -23127 | I30: -21236 | J30: -20091 | K30: -20424.171 | L30: -21687 | M30: -20868.4 | N30: -20962 | O30: -22069 | P30: -19519 | Q30: -30857.4 | R30: -43916.041 | S30: -38677.338 | T30: -40418.243
B31: Materials | C31: -24662 | D31: -11793 | E31: -13345.137 | F31: -13565 | G31: -13849 | H31: -20758.261 | I31: -19770 | J31: -19280 | K31: -19275.973 | L31: -14121 | M31: -11565 | N31: -11928.544 | O31: -12135 | P31: -10306.149 | Q31: -12103 | R31: -15236.596 | S31: -14481.573 | T31: -19620.025
B32: Fuel | C32: -9530 | D32: -11775 | E32: -7659.4 | F32: -9669 | G32: -9734 | H32: -9088 | I32: -8160 | J32: -7868 | K32: -5806.991 | L32: -4306 | M32: -5237 | N32: -6704.2749 | O32: -7023 | P32: -6184 | Q32: -6544.8708 | R32: -10485.443 | S32: -8739.3004 | T32: -7265.508
B33: Repair and maintenance | C33: -12323 | D33: -10573 | E33: -9176 | F33: -5009 | G33: -11100 | H33: -7729 | I33: -10550 | J33: -10001 | K33: -15420.266 | L33: -7175 | M33: -3820 | N33: -4113.1533 | O33: -6694 | P33: -5401.657 | Q33: -5062.0415 | R33: -10568.896 | S33: -12823.807 | T33: -18965.515
B34: Impairment gain/(loss) on trade receivables | M34: -12115 | N34: -12017 | O34: -33728.665 | P34: -13559.5 | Q34: -2790.6556 | R34: 840.43081 | S34: 6016 | T34: -3493.4937
B35: Other Expenses | C35: =SUM(C36:C45) -> -35509 | D35: =SUM(D36:D45) -> -42114 | E35: =SUM(E36:E45) -> -54963 | F35: =SUM(F36:F45) -> -66806 | G35: =SUM(G36:G45) -> -62119 | H35: =SUM(H36:H45) -> -80716.648 | I35: =SUM(I36:I45) -> -78769 | J35: =SUM(J36:J45) -> -71479 | ... T35: =SUM(T36:T45) -> -144516.82
B36: Taxes other than income tax | C36: -7527 | D36: -3633 | E36: -16591 | F36: -16277 | G36: -17658 | H36: -20729 | I36: -23554 | J36: -24384 | K36: -25969 | L36: -26474.188 | M36: -27043.4 | N36: -26813 | O36: -22225 | P36: -23937.951 | Q36: -30458.27 | R36: -24254.121 | S36: -24604.126 | T36: -25542.474
B37: Write off of PPE | C37: 0 | D37: 0 | E37: -6622 | F37: -4831 | G37: -4094 | H37: -5853.648 | I37: -296 | J37: 0 | K37: -164 | L37: -254.4828 | M37: -803 | N37: -1250 | O37: -1030 | P37: -2235.6 | Q37: -1874.128 | R37: -876.73028 | S37: -3798.9005 | T37: -695.97
B38: Write off of CIP | C38: 0 | D38: 0 | E38: 0 | F38: 0 | G38: 0 | H38: -8931 | I38: -5687 | J38: -3858 | K38: 0 | L38: 0 | M38: 0 | N38: 0 | O38: 0 | P38: 0 | Q38: 0 | R38: 0 | S38: 0 | T38: 0
B39: Security and other operating expenses | C39: -15333 | D39: -19337 | E39: -15588 | F39: -17532 | G39: -16967 | H39: -20165 | I39: -27387 | J39: -23245 | K39: -8734 | L39: -8928 | M39: -8918 | N39: -9208.5803 | O39: -9246 | P39: -9916.7 | Q39: -9731 | R39: -10390.108 | S39: -12364.076 | T39: -13166.112
B40: Freight car cross-border charge | C40: -9371 | D40: -10746 | E40: -6378 | F40: -9046 | G40: -23400 | H40: -25038 | I40: -21845 | J40: -19992 | K40: -11210 | L40: -4407 | M40: -4094.5 | N40: -4177 | O40: -3780 | P40: -3688.1096 | Q40: -4064.7904 | R40: -10927.961 | S40: -8324.7494 | T40: -15176.512
B41: Logistic service | C41: NA | D41: NA | E41: NA | F41: NA | G41: NA | H41: NA | I41: NA | J41: NA | K41: -17197 | L41: -14270 | M41: -12996 | N41: -17635.5 | O41: -20182 | P41: -21105.292 | Q41: -32918.385 | R41: -71284.841 | S41: -88461 | T41: -76485.556
B42: Internet and cable lease (Telecom) | C42: -1279 | D42: -5071 | E42: -7116 | F42: -3611 | G42: 0 | H42: 0 | I42: 0 | J42: 0 | K42: 0 | L42: 0 | M42: 0 | N42: 0 | O42: 0 | P42: 0 | Q42: 0 | R42: 0 | S42: 0 | T42: 0
B43: Inventory write-off | C43: 0 | D43: -96 | E43: -2668 | F43: 0 | G43: 0 | H43: 0 | I43: 0 | J43: 0 | K43: 0 | L43: 0 | M43: 0 | N43: 0 | O43: 0 | P43: 0 | Q43: 0 | R43: 0 | S43: 0 | T43: 0
B44: Other | C44: 0 | D44: 0 | E44: 0 | F44: 0 | G44: 0 | H44: 0 | I44: 0 | J44: 0 | K44: -7576 | L44: -8944 | M44: -18013 | N44: -14674 | O44: -15665.4 | P44: -10158.46 | Q44: -15928 | R44: -10787.568 | S44: -16394.987 | T44: -13450.197
...

Sheet Hor. Analysis
B2: Historical Consolidated IFRS Financial Statements
B3: (Consolidated Statement of Profit or Loss; Statement of Financial Position and Statement of Cash Flows)
B4: JSC Georgian Railway
A5: Column1 | B5: ’000 GEL | D5: 2008 | E5: 2009 | F5: 2010 | G5: 2011 | H5: 2012 | I5: 2013 | J5: 2014 | K5: 2015 | L5: 2016 | M5: 2017 | N5: 2018 | O5: 2019 | P5: 2020 | Q5: 2021 | R5: 2022 | S5: 2023 | T5: 2024
B7: Consolidated Statements of Profit or Loss and Other Comprehensive Income
B9: Freight transportation | D9: =IFERROR(FS!D9/FS!C9-1,"") -> -0.037877725 | E9: =IFERROR(FS!E9/FS!D9-1,"") -> -0.0029945028 | F9: =IFERROR(FS!F9/FS!E9-1,"") -> 0.24798742 | G9: =IFERROR(FS!G9/FS!F9-1,"") -> 0.17083253 | H9: =IFERROR(FS!H9/FS!G9-1,"") -> 0.0055654282 | I9: =IFERROR(FS!I9/FS!H9-1,"") -> 0.037595472 | J9: =IFERROR(FS!J9/FS!I9-1,"") -> 0.051296912 | K9: =IFERROR(FS!K9/FS!J9-1,"") -> 0.026236639 | ... T9: =IFERROR(FS!T9/FS!S9-1,"") -> 0.048091728
B10: Freight handling | D10: =IFERROR(FS!D10/FS!C10-1,"") -> 0.33617395 | E10: =IFERROR(FS!E10/FS!D10-1,"") -> -0.36011474 | F10: =IFERROR(FS!F10/FS!E10-1,"") -> 0.60006117 | G10: =IFERROR(FS!G10/FS!F10-1,"") -> 0.095848809 | H10: =IFERROR(FS!H10/FS!G10-1,"") -> -0.17850869 | I10: =IFERROR(FS!I10/FS!H10-1,"") -> 0.18859167 | J10: =IFERROR(FS!J10/FS!I10-1,"") -> 0.14075898 | K10: =IFERROR(FS!K10/FS!J10-1,"") -> 0.14667845 | ... T10: =IFERROR(FS!T10/FS!S10-1,"") -> 0.045475131
B11: Logistic service | D11: =IFERROR(FS!D11/FS!C11-1,"") | E11: =IFERROR(FS!E11/FS!D11-1,"") | F11: =IFERROR(FS!F11/FS!E11-1,"") | G11: =IFERROR(FS!G11/FS!F11-1,"") | H11: =IFERROR(FS!H11/FS!G11-1,"") | I11: =IFERROR(FS!I11/FS!H11-1,"") | J11: =IFERROR(FS!J11/FS!I11-1,"") | K11: =IFERROR(FS!K11/FS!J11-1,"") | ... T11: =IFERROR(FS!T11/FS!S11-1,"") -> -0.02026396
B12: Freight car rental | D12: =IFERROR(FS!D12/FS!C12-1,"") -> 0.44010417 | E12: =IFERROR(FS!E12/FS!D12-1,"") -> -0.0028330319 | F12: =IFERROR(FS!F12/FS!E12-1,"") -> 0.34812307 | G12: =IFERROR(FS!G12/FS!F12-1,"") -> 0.97098915 | H12: =IFERROR(FS!H12/FS!G12-1,"") -> 0.05516755 | I12: =IFERROR(FS!I12/FS!H12-1,"") -> -0.2603165 | J12: =IFERROR(FS!J12/FS!I12-1,"") -> 0.10210447 | K12: =IFERROR(FS!K12/FS!J12-1,"") -> -0.35836132 | ... T12: =IFERROR(FS!T12/FS!S12-1,"")
B13: Rent of wagons and other rental income | D13: =IFERROR(FS!D13/FS!C13-1,"") | E13: =IFERROR(FS!E13/FS!D13-1,"") | F13: =IFERROR(FS!F13/FS!E13-1,"") | G13: =IFERROR(FS!G13/FS!F13-1,"") | H13: =IFERROR(FS!H13/FS!G13-1,"") | I13: =IFERROR(FS!I13/FS!H13-1,"") | J13: =IFERROR(FS!J13/FS!I13-1,"") | K13: =IFERROR(FS!K13/FS!J13-1,"") | ... T13: =IFERROR(FS!T13/FS!S13-1,"") -> -0.079034785
B14: Freight car cross-border charge | D14: =IFERROR(FS!D14/FS!C14-1,"") | E14: =IFERROR(FS!E14/FS!D14-1,"") | F14: =IFERROR(FS!F14/FS!E14-1,"") | G14: =IFERROR(FS!G14/FS!F14-1,"") | H14: =IFERROR(FS!H14/FS!G14-1,"") | I14: =IFERROR(FS!I14/FS!H14-1,"") | J14: =IFERROR(FS!J14/FS!I14-1,"") | K14: =IFERROR(FS!K14/FS!J14-1,"") | ... T14: =IFERROR(FS!T14/FS!S14-1,"") -> -0.0061130424
B15: Passenger traffic | D15: =IFERROR(FS!D15/FS!C15-1,"") -> -0.032041946 | E15: =IFERROR(FS!E15/FS!D15-1,"") -> -0.16027686 | F15: =IFERROR(FS!F15/FS!E15-1,"") -> 0.12299312 | G15: =IFERROR(FS!G15/FS!F15-1,"") -> -0.02623181 | H15: =IFERROR(FS!H15/FS!G15-1,"") -> 0.14255751 | I15: =IFERROR(FS!I15/FS!H15-1,"") -> 0.035130794 | J15: =IFERROR(FS!J15/FS!I15-1,"") -> 0.01510718 | K15: =IFERROR(FS!K15/FS!J15-1,"") -> -0.15450128 | ... T15: =IFERROR(FS!T15/FS!S15-1,"") -> -0.11038797
B16: Revenue from PSC* | D16: =IFERROR(FS!D16/FS!C16-1,"") | E16: =IFERROR(FS!E16/FS!D16-1,"") | F16: =IFERROR(FS!F16/FS!E16-1,"") | G16: =IFERROR(FS!G16/FS!F16-1,"") | H16: =IFERROR(FS!H16/FS!G16-1,"") | I16: =IFERROR(FS!I16/FS!H16-1,"") | J16: =IFERROR(FS!J16/FS!I16-1,"") | K16: =IFERROR(FS!K16/FS!J16-1,"") | ... T16: =IFERROR(FS!T16/FS!S16-1,"")
B17: Rent, scrap realization,other | D17: =IFERROR(FS!D17/FS!C17-1,"") -> -0.28832002 | E17: =IFERROR(FS!E17/FS!D17-1,"") -> 0.06317681 | F17: =IFERROR(FS!F17/FS!E17-1,"") -> 1.0694184 | G17: =IFERROR(FS!G17/FS!F17-1,"") -> -0.061261495 | H17: =IFERROR(FS!H17/FS!G17-1,"") -> -0.41859823 | I17: =IFERROR(FS!I17/FS!H17-1,"") -> -0.30991932 | J17: =IFERROR(FS!J17/FS!I17-1,"") -> 0.25894085 | K17: =IFERROR(FS!K17/FS!J17-1,"") -> 0.9087681 | ... T17: =IFERROR(FS!T17/FS!S17-1,"") -> -0.072853426
B18: Telecom revenue | D18: =IFERROR(FS!D18/FS!C18-1,"") -> 4.9634157 | E18: =IFERROR(FS!E18/FS!D18-1,"") -> 0.11176406 | F18: =IFERROR(FS!F18/FS!E18-1,"") -> -0.57818773 | G18: =IFERROR(FS!G18/FS!F18-1,"") -> -1 | H18: =IFERROR(FS!H18/FS!G18-1,"") | I18: =IFERROR(FS!I18/FS!H18-1,"") | J18: =IFERROR(FS!J18/FS!I18-1,"") | K18: =IFERROR(FS!K18/FS!J18-1,"") | ... T18: =IFERROR(FS!T18/FS!S18-1,"")
B19: Revenue | D19: =IFERROR(FS!D19/FS!C19-1,"") -> 0.047320008 | E19: =IFERROR(FS!E19/FS!D19-1,"") -> -0.064685205 | F19: =IFERROR(FS!F19/FS!E19-1,"") -> 0.26925597 | G19: =IFERROR(FS!G19/FS!F19-1,"") -> 0.17962172 | H19: =IFERROR(FS!H19/FS!G19-1,"") -> -0.015832351 | I19: =IFERROR(FS!I19/FS!H19-1,"") -> 0.021343113 | J19: =IFERROR(FS!J19/FS!I19-1,"") -> 0.066111989 | K19: =IFERROR(FS!K19/FS!J19-1,"") -> 0.12354634 | ... T19: =IFERROR(FS!T19/FS!S19-1,"") -> 0.033744714
D20: =IFERROR(FS!D20/FS!C20-1,"") | E20: =IFERROR(FS!E20/FS!D20-1,"") | F20: =IFERROR(FS!F20/FS!E20-1,"") | G20: =IFERROR(FS!G20/FS!F20-1,"") | H20: =IFERROR(FS!H20/FS!G20-1,"") | I20: =IFERROR(FS!I20/FS!H20-1,"") | J20: =IFERROR(FS!J20/FS!I20-1,"") | K20: =IFERROR(FS!K20/FS!J20-1,"") | ... T20: =IFERROR(FS!T20/FS!S20-1,"")
B21: Continuing operations | D21: =IFERROR(FS!D21/FS!C21-1,"") -> -0.50622215 | E21: =IFERROR(FS!E21/FS!D21-1,"") -> 1.0342253 | F21: =IFERROR(FS!F21/FS!E21-1,"") -> 0.084113143 | G21: =IFERROR(FS!G21/FS!F21-1,"") -> 0.21643384 | H21: =IFERROR(FS!H21/FS!G21-1,"") -> 0.46833681 | I21: =IFERROR(FS!I21/FS!H21-1,"") -> 0.22807924 | J21: =IFERROR(FS!J21/FS!I21-1,"") -> -0.33172463 | K21: =IFERROR(FS!K21/FS!J21-1,"") -> 0.27941443 | ... T21: =IFERROR(FS!T21/FS!S21-1,"") -> 0.76620144
B22: Profit generated from associate entity | D22: =IFERROR(FS!#REF!/FS!#REF!-1,"") | E22: =IFERROR(FS!#REF!/FS!#REF!-1,"") | F22: =IFERROR(FS!#REF!/FS!#REF!-1,"") | G22: =IFERROR(FS!#REF!/FS!#REF!-1,"") | H22: =IFERROR(FS!#REF!/FS!#REF!-1,"") | I22: =IFERROR(FS!#REF!/FS!#REF!-1,"") | J22: =IFERROR(FS!#REF!/FS!#REF!-1,"") | K22: =IFERROR(FS!#REF!/FS!#REF!-1,"") | ... T22: =IFERROR(FS!#REF!/FS!#REF!-1,"")
B23: Gain on sale of subsidiary | D23: =IFERROR(FS!D22/FS!C22-1,"") | E23: =IFERROR(FS!E22/FS!D22-1,"") | F23: =IFERROR(FS!F22/FS!E22-1,"") | G23: =IFERROR(FS!G22/FS!F22-1,"") -> -1 | H23: =IFERROR(FS!H22/FS!G22-1,"") | I23: =IFERROR(FS!I22/FS!H22-1,"") | J23: =IFERROR(FS!J22/FS!I22-1,"") | K23: =IFERROR(FS!K22/FS!J22-1,"") | ... T23: =IFERROR(FS!T22/FS!S22-1,"")
B24: Other | D24: =IFERROR(FS!D23/FS!C23-1,"") -> 4.0736498 | E24: =IFERROR(FS!E23/FS!D23-1,"") -> -0.73290323 | F24: =IFERROR(FS!F23/FS!E23-1,"") -> 0.55818539 | G24: =IFERROR(FS!G23/FS!F23-1,"") -> -0.47247569 | H24: =IFERROR(FS!H23/FS!G23-1,"") -> 4.6694093 | I24: =IFERROR(FS!I23/FS!H23-1,"") -> -1.0049705 | J24: =IFERROR(FS!J23/FS!I23-1,"") -> -21.474224 | K24: =IFERROR(FS!K23/FS!J23-1,"") -> 4.0804726 | ... T24: =IFERROR(FS!T23/FS!S23-1,"") -> 2.8799797
B25: Other Income | D25: =IFERROR(FS!D24/FS!C24-1,"") -> 0.95671267 | E25: =IFERROR(FS!E24/FS!D24-1,"") -> -0.42941114 | F25: =IFERROR(FS!F24/FS!E24-1,"") -> 0.66866454 | G25: =IFERROR(FS!G24/FS!F24-1,"") -> -0.32512066 | H25: =IFERROR(FS!H24/FS!G24-1,"") -> 1.6572141 | I25: =IFERROR(FS!I24/FS!H24-1,"") -> -0.51642766 | J25: =IFERROR(FS!J24/FS!I24-1,"") -> -0.2005093 | K25: =IFERROR(FS!K24/FS!J24-1,"") -> 0.88353942 | ... T25: =IFERROR(FS!T24/FS!S24-1,"") -> 1.536235
D26: =IFERROR(FS!D25/FS!C25-1,"") | E26: =IFERROR(FS!E25/FS!D25-1,"") | F26: =IFERROR(FS!F25/FS!E25-1,"") | G26: =IFERROR(FS!G25/FS!F25-1,"") | H26: =IFERROR(FS!H25/FS!G25-1,"") | I26: =IFERROR(FS!I25/FS!H25-1,"") | J26: =IFERROR(FS!J25/FS!I25-1,"") | K26: =IFERROR(FS!K25/FS!J25-1,"") | ... T26: =IFERROR(FS!T25/FS!S25-1,"")
B27: Impairment loss on property, plant and equipment | D27: =IFERROR(FS!D26/FS!C26-1,"") | E27: =IFERROR(FS!E26/FS!D26-1,"") | F27: =IFERROR(FS!F26/FS!E26-1,"") | G27: =IFERROR(FS!G26/FS!F26-1,"") | H27: =IFERROR(FS!H26/FS!G26-1,"") | I27: =IFERROR(FS!I26/FS!H26-1,"") | J27: =IFERROR(FS!J26/FS!I26-1,"") | K27: =IFERROR(FS!K26/FS!J26-1,"") | ... T27: =IFERROR(FS!T26/FS!S26-1,"")
B28: Employee benefits expense | D28: =IFERROR(FS!D27/FS!C27-1,"") -> 0.032666394 | E28: =IFERROR(FS!E27/FS!D27-1,"") -> -0.024221358 | F28: =IFERROR(FS!F27/FS!E27-1,"") -> 0.048476624 | G28: =IFERROR(FS!G27/FS!F27-1,"") -> -0.024843381 | H28: =IFERROR(FS!H27/FS!G27-1,"") -> -0.0002396468 | I28: =IFERROR(FS!I27/FS!H27-1,"") -> 0.23087206 | J28: =IFERROR(FS!J27/FS!I27-1,"") -> 0.087372387 | K28: =IFERROR(FS!K27/FS!J27-1,"") -> 0.023768278 | ... T28: =IFERROR(FS!T27/FS!S27-1,"") -> -0.024392259
B29: Depreciation and amortization expenses | D29: =IFERROR(FS!D28/FS!C28-1,"") -> -0.072877796 | E29: =IFERROR(FS!E28/FS!D28-1,"") -> -0.028052789 | F29: =IFERROR(FS!F28/FS!E28-1,"") -> 0.027447431 | G29: =IFERROR(FS!G28/FS!F28-1,"") -> -0.06695764 | H29: =IFERROR(FS!H28/FS!G28-1,"") -> 0.053670078 | I29: =IFERROR(FS!I28/FS!H28-1,"") -> 0.049906265 | J29: =IFERROR(FS!J28/FS!I28-1,"") -> 0.032680252 | K29: =IFERROR(FS!K28/FS!J28-1,"") -> -0.0079951168 | ... T29: =IFERROR(FS!T28/FS!S28-1,"") -> -0.2284882
B30: Electricity, inventory and repair work | D30: =IFERROR(FS!D29/FS!C29-1,"") -> -0.12745143 | E30: =IFERROR(FS!E29/FS!D29-1,"") -> -0.1234316 | F30: =IFERROR(FS!F29/FS!E29-1,"") -> 0.0027873404 | G30: =IFERROR(FS!G29/FS!F29-1,"") -> 0.18606057 | H30: =IFERROR(FS!H29/FS!G29-1,"") -> 0.031246472 | I30: =IFERROR(FS!I29/FS!H29-1,"") -> -0.016247518 | J30: =IFERROR(FS!J29/FS!I29-1,"") -> -0.041462925 | K30: =IFERROR(FS!K29/FS!J29-1,"") -> 0.064420003 | ... T30: =IFERROR(FS!T29/FS!S29-1,"") -> 0.17306552
B31: Electricity | D31: =IFERROR(FS!D30/FS!C30-1,"") -> 0.22685796 | E31: =IFERROR(FS!E30/FS!D30-1,"") -> -0.13479481 | F31: =IFERROR(FS!F30/FS!E30-1,"") -> 0.10747955 | G31: =IFERROR(FS!G30/FS!F30-1,"") -> 0.13064622 | H31: =IFERROR(FS!H30/FS!G30-1,"") -> -0.043548387 | I31: =IFERROR(FS!I30/FS!H30-1,"") -> -0.081765901 | J31: =IFERROR(FS!J30/FS!I30-1,"") -> -0.053917875 | K31: =IFERROR(FS!K30/FS!J30-1,"") -> 0.016583097 | ... T31: =IFERROR(FS!T30/FS!S30-1,"") -> 0.045013465
B32: Materials | D32: =IFERROR(FS!D31/FS!C31-1,"") -> -0.52181494 | E32: =IFERROR(FS!E31/FS!D31-1,"") -> 0.13161511 | F32: =IFERROR(FS!F31/FS!E31-1,"") -> 0.01647514 | G32: =IFERROR(FS!G31/FS!F31-1,"") -> 0.020936233 | H32: =IFERROR(FS!H31/FS!G31-1,"") -> 0.49889964 | I32: =IFERROR(FS!I31/FS!H31-1,"") -> -0.047608087 | J32: =IFERROR(FS!J31/FS!I31-1,"") -> -0.024785028 | K32: =IFERROR(FS!K31/FS!J31-1,"") -> -0.00020886929 | ... T32: =IFERROR(FS!T31/FS!S31-1,"") -> 0.4500413
B33: Fuel | D33: =IFERROR(FS!D32/FS!C32-1,"") -> 0.23557188 | E33: =IFERROR(FS!E32/FS!D32-1,"") -> -0.34952017 | F33: =IFERROR(FS!F32/FS!E32-1,"") -> 0.26237042 | G33: =IFERROR(FS!G32/FS!F32-1,"") -> 0.0067225153 | H33: =IFERROR(FS!H32/FS!G32-1,"") -> -0.066365317 | I33: =IFERROR(FS!I32/FS!H32-1,"") -> -0.10211268 | J33: =IFERROR(FS!J32/FS!I32-1,"") -> -0.035784314 | K33: =IFERROR(FS!K32/FS!J32-1,"") -> -0.26194827 | ... T33: =IFERROR(FS!T32/FS!S32-1,"") -> -0.16823877
B34: Repair and maintenance | D34: =IFERROR(FS!D33/FS!C33-1,"") -> -0.14201087 | E34: =IFERROR(FS!E33/FS!D33-1,"") -> -0.13212901 | F34: =IFERROR(FS!F33/FS!E33-1,"") -> -0.45411944 | G34: =IFERROR(FS!G33/FS!F33-1,"") -> 1.2160112 | H34: =IFERROR(FS!H33/FS!G33-1,"") -> -0.30369369 | I34: =IFERROR(FS!I33/FS!H33-1,"") -> 0.364989 | J34: =IFERROR(FS!J33/FS!I33-1,"") -> -0.052037915 | K34: =IFERROR(FS!K33/FS!J33-1,"") -> 0.54187241 | ... T34: =IFERROR(FS!T33/FS!S33-1,"") -> 0.47908202
B35: Impairment gain/(loss) on trade receivables | D35: =IFERROR(FS!D34/FS!C34-1,"") | E35: =IFERROR(FS!E34/FS!D34-1,"") | F35: =IFERROR(FS!F34/FS!E34-1,"") | G35: =IFERROR(FS!G34/FS!F34-1,"") | H35: =IFERROR(FS!H34/FS!G34-1,"") | I35: =IFERROR(FS!I34/FS!H34-1,"") | J35: =IFERROR(FS!J34/FS!I34-1,"") | K35: =IFERROR(FS!K34/FS!J34-1,"") | ... T35: =IFERROR(FS!T34/FS!S34-1,"") -> -1.6278169
B36: Other Expenses | D36: =IFERROR(FS!D35/FS!C35-1,"") -> 0.0050245077 | E36: =IFERROR(FS!E35/FS!D35-1,"") -> 0.13269355 | F36: =IFERROR(FS!F35/FS!E35-1,"") -> 0.502747 | G36: =IFERROR(FS!G35/FS!F35-1,"") -> -0.20271117 | H36: =IFERROR(FS!H35/FS!G35-1,"") -> 0.31025102 | I36: =IFERROR(FS!I35/FS!H35-1,"") -> -0.12905335 | J36: =IFERROR(FS!J35/FS!I35-1,"") -> -0.14440996 | K36: =IFERROR(FS!K35/FS!J35-1,"") -> 0.032400628 | ... T36: =IFERROR(FS!T35/FS!S35-1,"") -> -0.059122867
B37: Taxes other than income tax | D37: =IFERROR(FS!D36/FS!C36-1,"") -> -0.35291475 | E37: =IFERROR(FS!E36/FS!D36-1,"") -> 0.41119299 | F37: =IFERROR(FS!F36/FS!E36-1,"") -> 0.77272383 | G37: =IFERROR(FS!G36/FS!F36-1,"") -> -0.29182854 | H37: =IFERROR(FS!H36/FS!G36-1,"") -> 0.25802562 | I37: =IFERROR(FS!I36/FS!H36-1,"") -> -0.20019169 | J37: =IFERROR(FS!J36/FS!I36-1,"") -> -0.14002397 | K37: =IFERROR(FS!K36/FS!J36-1,"") -> 0.080645161 | ... T37: =IFERROR(FS!T36/FS!S36-1,"") -> 0.035511328
B38: Write off of PPE | D38: =IFERROR(FS!D37/FS!C37-1,"") | E38: =IFERROR(FS!E37/FS!D37-1,"") | F38: =IFERROR(FS!F37/FS!E37-1,"") -> -0.2704621 | G38: =IFERROR(FS!G37/FS!F37-1,"") -> -0.15255641 | H38: =IFERROR(FS!H37/FS!G37-1,"") -> 0.42981144 | I38: =IFERROR(FS!I37/FS!H37-1,"") -> -0.94943324 | J38: =IFERROR(FS!J37/FS!I37-1,"") -> -1 | K38: =IFERROR(FS!K37/FS!J37-1,"") | ... T38: =IFERROR(FS!T37/FS!S37-1,"") -> -0.81683035
... B52: Impairment reversal on other financial assets | D52: =IFERROR(FS!D51/FS!C51-1,"") | E52: =IFERROR(FS!E51/FS!D51-1,"") | F52: =IFERROR(FS!F51/FS!E51-1,"") | G52: =IFERROR(FS!G51/FS!F51-1,"") | H52: =IFERROR(FS!H51/FS!G51-1,"") | I52: =IFERROR(FS!I51/FS!H51-1,"") | J52: =IFERROR(FS!J51/FS!I51-1,"") | K52: =IFERROR(FS!K51/FS!J51-1,"") | ... T52: =IFERROR(FS!T51/FS!S51-1,"") -> -1
B53: Finance cost | D53: =IFERROR(FS!D53/FS!C53-1,"") -> 2.6429009 | E53: =IFERROR(FS!E53/FS!D53-1,"") -> -0.59924423 | F53: =IFERROR(FS!F53/FS!E53-1,"") -> 2.7034184 | G53: =IFERROR(FS!G53/FS!F53-1,"") -> -0.40621533 | H53: =IFERROR(FS!H53/FS!G53-1,"") -> 4.6531098 | I53: =IFERROR(FS!I53/FS!H53-1,"") -> -0.030164555 | J53: =IFERROR(FS!J53/FS!I53-1,"") -> 0.93440656 | K53: =IFERROR(FS!K53/FS!J53-1,"") -> 1.8341693 | ... T53: =IFERROR(FS!T53/FS!S53-1,"") -> 0.92598063
B54: Impairment loss on trade receivables | D54: =IFERROR(FS!D54/FS!C54-1,"") -> 2.6094507 | E54: =IFERROR(FS!E54/FS!D54-1,"") -> -0.63802171 | F54: =IFERROR(FS!F54/FS!E54-1,"") -> 0.87109737 | G54: =IFERROR(FS!G54/FS!F54-1,"") -> 0.22329116 | H54: =IFERROR(FS!H54/FS!G54-1,"") -> 0.037372386 | I54: =IFERROR(FS!I54/FS!H54-1,"") -> 0.15904735 | J54: =IFERROR(FS!J54/FS!I54-1,"") -> -0.41087274 | K54: =IFERROR(FS!K54/FS!J54-1,"") -> 4.4579022 | ... T54: =IFERROR(FS!T54/FS!S54-1,"")
B55: Impairment loss on issued loans | D55: =IFERROR(FS!D55/FS!C55-1,"") | E55: =IFERROR(FS!E55/FS!D55-1,"") | F55: =IFERROR(FS!F55/FS!E55-1,"") | G55: =IFERROR(FS!G55/FS!F55-1,"") | H55: =IFERROR(FS!H55/FS!G55-1,"") | I55: =IFERROR(FS!I55/FS!H55-1,"") | J55: =IFERROR(FS!J55/FS!I55-1,"") | K55: =IFERROR(FS!K55/FS!J55-1,"") | ... T55: =IFERROR(FS!T55/FS!S55-1,"")
B56: Impairment loss on cash in bank | D56: =IFERROR(FS!D56/FS!C56-1,"") | E56: =IFERROR(FS!E56/FS!D56-1,"") | F56: =IFERROR(FS!F56/FS!E56-1,"") | G56: =IFERROR(FS!G56/FS!F56-1,"") | H56: =IFERROR(FS!H56/FS!G56-1,"") | I56: =IFERROR(FS!I56/FS!H56-1,"") | J56: =IFERROR(FS!J56/FS!I56-1,"") | K56: =IFERROR(FS!K56/FS!J56-1,"") | ... T56: =IFERROR(FS!T56/FS!S56-1,"")
...

Sheet კომენტარები_FY 2024
C3: 2023 | D3: 2024 | G3: კომენტარი
B4: Rent, scrap realization,other | C4: 4612 | D4: 14028.265 | E4: =IFERROR(D4/C4-1,"") -> 2.041688 | F4: =IFERROR(D4-C4,"") -> 9416.265 | G4: ანგარიში: 8139030000 _ ჯართის რეალიზაციიდან მიღებული სხვაობა იყო ძირითადი სხვაობის მიზეზი გაიზარდა 10.5 მილიონით, ხოლო სხვა ნაწილების (გარდა ჯართის) რეალიზაციიდან მიღებული შმოსავალი შემცირდა 1.5 მილიონით.
B5: Continuing operations | C5: 5716.5999 | D5: 9357.5357 | E5: =IFERROR(D5/C5-1,"") -> 0.63690583 | F5: =IFERROR(D5-C5,"") -> 3640.9358 | G5: 5.6 მილიონი ლარის ლარი ენერგო პრო ჯორჯიასთან მოგებული სასამართლო დავა. პირგასამტეხლო (დებიზოტზე დარიცხული საურავი) 2023 წელს იყო 1.3 მილიონი და ახლა არის 0.4 მილიონი (ძირითადად დარიცხული 2023 წელს იყო მგზავრთა გადაყვანის 267.2 ათასი და - სატვირთოსი 534.8 ართასი (მსხვილი კლიენტი არ იკვეთება)
B6: Other | C6: 3275.9001 | D6: 1430.812 | E6: (ქ4 უარყოფითი) | G6: კორექტირება მოხდა შემდეგ ანგარიშზე: P8236090000 _ 863,511 ლარის. დაკარგული ძირითადი საშუალებების რეზერვის აღიარება | H6: <--- ეს კორექტირება იქნებ სხვა ანგარიშზე გადავიტანოთ
B7: Depreciation and amortization expenses | C7: -76895 | D7: -64770.261 | E7: =IFERROR(D7/C7-1,"") -> -0.15767916 | F7: =IFERROR(D7-C7,"") -> 12124.739 | G7: ცვეთის ხარჯი ძირითადად შემცირებულია სალიანდაგო უღელტეხილი და სალიანდაგო დასავლეთის ხარჯზე
B8: Materials | C8: -14481.573 | D8: -19620.799 | E8: =IFERROR(D8/C8-1,"") -> 0.35488036 | F8: =IFERROR(D8-C8,"") -> -5139.2259 | G8: 4.1 მილიონი ლარითაა გაზრდილი ლიანდაგის ზედნაშენი (superstructure) მასალები. ასევე 1.7 მილიონი ზრდა ძირითადად დამხმარე ნაწილების შეძენით არის გამოწვეული, ( „ვპრს-08/32“-ის ტიპის გამოსატენ-მასწორებელ-საზუსტებელი სალიანდაგო მანქანები) სალიანდაგოა აქაც გაზრდილი.
B9: Repair and maintenance | C9: -12823.807 | D9: -18994.645 | E9: =IFERROR(D9/C9-1,"") -> 0.48120175 | F9: =IFERROR(D9-C9,"") -> -6170.8382 | G9: ძირითადი საშუალებების რემონტი გაიზარდა (სალოკომოტივო) დაახლოებით 3 მილიონით. ასევე 2024 წელს კორექტირება მოხდა თისითის თბომავლების რემონტზე დაკორექტირდა როგორც შემოსავალი 2.1 მილიონი და ასევე კორექტირება მოხდა სტადლერის რემონტზე ხარჯი 5.7 მილიონი ჯამური კორექტირება გამოვიდა 3.3 მილიონი ლარი. რაც ჯამში 6.2 მილიონიან სხვაობას ხსნის 2023 წელთან | H9: <--- რა პერიოდის კორექტირებაა და რატო მოხდა თისითიზე
B10: Freight car cross-border charge | C10: -8324.7494 | D10: -15176.512 | E10: =IFERROR(D10/C10-1,"") -> 0.82305932 | F10: =IFERROR(D10-C10,"") -> -6851.7626 | G10: აზერბაიჯანის მიერ ნაქირავები ვაგონების ფონზე არის გაზრდილი. (ძირითადად ცისტერნების და ნახევარვაგონების წილი არის გაზრდილი.
B11: Logistic service | C11: -88461 | D11: -77497.59 | E11: =IFERROR(D11/C11-1,"") -> -0.12393495 | F11: =IFERROR(D11-C11,"") -> 10963.41 | G11: GR transit - ხარჯი 2023 წელთან შედარებით შემცირდა 5.8 მილიონი ლარით, ძრითადად შემცირებულია 24 საათიან მომსახურებაზე გაწეული ხარჯები.
B12: Other | C12: -16394.987 | D12: -13621.59 | E12: =IFERROR(D12/C12-1,"") -> -0.16916127 | F12: =IFERROR(D12-C12,"") -> 2773.3967 | G12: 2023 წელს WBS - მიერ შესყიდული პროგრამების 1.8 მილიონი და ასევე სალიანდაგოს მიერ გაკეთებული შენაძენების ხარჯზე მოხდა გაზრდა 1 მილიონი დაახლოებით. (შპს რაველდი -თვითმფრინავების, რკინიგზის, საგზაო და საზღვაო მოწყობილობების შეკეთება, ტექნიკური მომსახურება და მათთან დაკავშირებული მომსახურებები)
B13: Interest expense | C13: -61090 | D13: -58765.149 | E13: =IFERROR(D13/C13-1,"") -> -0.038056163 | F13: =IFERROR(D13-C13,"") -> 2324.851 | G13: მასტერ ფაილის მიხედვით 57 მილიონია საპროცენტო გადასახადი, დანარჩენი provisions არის, უბრალოდ გამოქვეყნებულ ეფესში 61 მილიონი პირდაპირ საპროცენტო ხარჯად ზის. კურსებით მიხედვით რომ შევადაროთ 2024 წელს მეტი უნდა იყოს ხარჯი | H13: <-- ეს არასწორია სავარაუდოდ
B14: Property, plant and equipment | C14: 1921379 | D14: 1965245.2 | E14: =IFERROR(D14/C14-1,"") -> 0.0228306 | F14: =IFERROR(D14-C14,"") -> 43866.235 | G14: CIP - შემცირდა 49 მილიონი ლარით, დაახლოებით ამ თანხის სამრეწველო შენობა და ლიანდაგი გაიზარდა. ამის გარდა ძირითადი ზრდა იყო (7 მილიონი გადამცემი მოწყობილობები და საკომუნიკაციო აღჭურვილობა და სიგნალიზაციის კონტროლი (სცბ 35 მილიონი ლარით ზრდა).
B15: Prepayments and other current assets | C15: 3562.1042 | D15: 15149.159 | E15: =IFERROR(D15/C15-1,"") -> 3.2528682 | F15: =IFERROR(D15-C15,"") -> 11587.055 | G15: WBS - 4.5 მილიონი ლარის წინასწარი ავანსი აქვს გაცემული. და თისითის კორექტირება 5.8 მილიონი ლარი _ To reclassify Trade and other Payables to Prepayments-technical Entry
